BEGIN:VCALENDAR
VERSION:2.0
PRODID:-//Seminario Conciliar de Ancud - ECPv4.9.2//NONSGML v1.0//EN
CALSCALE:GREGORIAN
METHOD:PUBLISH
X-WR-CALNAME:Seminario Conciliar de Ancud
X-ORIGINAL-URL:https://seminarioancud.cl
X-WR-CALDESC:Eventos para Seminario Conciliar de Ancud
BEGIN:VEVENT
DTSTART;VALUE=DATE:20191231
DTEND;VALUE=DATE:20200101
DTSTAMP:20260423T183835
CREATED:20190909T161442Z
LAST-MODIFIED:20191104T030041Z
UID:7280-1577750400-1577836799@seminarioancud.cl
SUMMARY:Finalización Año Escolar 2019
DESCRIPTION:
URL:https://seminarioancud.cl/evento/finalizacion-ano-escolar-2019/
END:VEVENT
END:VCALENDAR