BEGIN:VCALENDAR
VERSION:2.0
PRODID:-//Seminario Conciliar de Ancud - ECPv4.9.2//NONSGML v1.0//EN
CALSCALE:GREGORIAN
METHOD:PUBLISH
X-WR-CALNAME:Seminario Conciliar de Ancud
X-ORIGINAL-URL:https://seminarioancud.cl
X-WR-CALDESC:Eventos para Seminario Conciliar de Ancud
BEGIN:VEVENT
DTSTART;VALUE=DATE:20191219
DTEND;VALUE=DATE:20191221
DTSTAMP:20260423T144635
CREATED:20190909T161331Z
LAST-MODIFIED:20191211T202939Z
UID:7276-1576713600-1576886399@seminarioancud.cl
SUMMARY:Matrícula Alumnos Antiguos
DESCRIPTION:
URL:https://seminarioancud.cl/evento/matricula-alumnos-antiguos/
END:VEVENT
END:VCALENDAR