BEGIN:VCALENDAR
VERSION:2.0
PRODID:-//Seminario Conciliar de Ancud - ECPv4.9.2//NONSGML v1.0//EN
CALSCALE:GREGORIAN
METHOD:PUBLISH
X-WR-CALNAME:Seminario Conciliar de Ancud
X-ORIGINAL-URL:https://seminarioancud.cl
X-WR-CALDESC:Eventos para Seminario Conciliar de Ancud
BEGIN:VEVENT
DTSTART;TZID=America/Santiago:20191216T080000
DTEND;TZID=America/Santiago:20191218T170000
DTSTAMP:20260423T131259
CREATED:20191211T203126Z
LAST-MODIFIED:20191211T203126Z
UID:8081-1576483200-1576688400@seminarioancud.cl
SUMMARY:Matrícula Alumnos Nuevos
DESCRIPTION:
URL:https://seminarioancud.cl/evento/matricula-alumnos-nuevos/
END:VEVENT
END:VCALENDAR